BEGIN:VCALENDAR
VERSION:2.0
PRODID:-//eventon.com NONSGML v1.0//EN
CALSCALE:GREGORIAN
METHOD:PUBLISH
BEGIN:VEVENT
UID:69ea8ef99eafc
DTSTAMP:20260423T212825Z
DTSTART:20221202T234500Z
DTEND:20221203T055000Z
LOCATION:Fort Worth Academy of Fine Arts 3901 S Hulen St.
SUMMARY:Joy in the Journey
DESCRIPTION:\nhttps://www.artsacademics.org/events/joy-in-the-journey/
URL:https://www.artsacademics.org/events/joy-in-the-journey/
END:VEVENT
END:VCALENDAR