BEGIN:VCALENDAR
VERSION:2.0
PRODID:-//eventon.com NONSGML v1.0//EN
CALSCALE:GREGORIAN
METHOD:PUBLISH
BEGIN:VEVENT
UID:69e59ae59e194
DTSTAMP:20260420T031757Z
DTSTART:20260430T230000Z
DTEND:20260501T000000Z
LOCATION:Fort Worth Academy Of Fine Arts 3901 S Hulen St.
SUMMARY:TeSA Presents Shrek The Musical Jr.
DESCRIPTION:TeSA Presents Shrek The Musical Jr. Spring Performance\nhttps:/
 /www.artsacademics.org/events/tesa-presents-shrek-the-musical-jr/
URL:https://www.artsacademics.org/events/tesa-presents-shrek-the-musical-jr/
END:VEVENT
END:VCALENDAR