BEGIN:VCALENDAR
VERSION:2.0
PRODID:-//eventon.com NONSGML v1.0//EN
CALSCALE:GREGORIAN
METHOD:PUBLISH
BEGIN:VEVENT
UID:69e8e2997f7db
DTSTAMP:20260422T150041Z
DTSTART:20260501T230000Z
DTEND:20260502T000000Z
LOCATION:Fort Worth Academy Of Fine Arts 3901 S Hulen St.
SUMMARY:TeSA Presents Shrek The Musical Jr. Show2
DESCRIPTION:TeSA Presents Shrek The Musical Jr. Spring Performance\nhttps:/
 /www.artsacademics.org/events/tesa-presents-shrek-the-musical-jr-show2/
URL:https://www.artsacademics.org/events/tesa-presents-shrek-the-musical-jr-show2/
END:VEVENT
END:VCALENDAR